BEGIN:VCALENDAR
VERSION:2.0
X-WR-CALNAME: Upcoming shows
PRODID:GIGPRESS 2.0 WORDPRESS PLUGIN
CALSCALE:GREGORIAN
X-WR-TIMEZONE:Etc/GMT
METHOD:PUBLISH
BEGIN:VTIMEZONE
TZID:GMT
BEGIN:STANDARD
DTSTART:20071028T010000
TZOFFSETTO:+0000
TZOFFSETFROM:+0000
END:STANDARD
END:VTIMEZONE
BEGIN:VEVENT
SUMMARY:Richard Henderson at Port Perry Town Hall
DESCRIPTION:Notes: DocuShow: Highway 61 - The Blues Diaspora 
LOCATION:Port Perry Town Hall\, 302 Queen Street\, Port Perry\, CA
UID:20260501T230000Z-1385-richard@richardhenderson.ca
URL:https://richardhenderson.ca
DTSTART;VALUE=DATE-TIME;TZID=GMT:20260501T230000Z
DTEND;VALUE=DATE-TIME;TZID=GMT:20260501T230000Z
DTSTAMP:20260425T042823Z
END:VEVENT
BEGIN:VEVENT
SUMMARY:Richard Henderson at Omemee Legion
DESCRIPTION:
LOCATION:Omemee Legion\, 46 King St E.\, Omemee\, CA
UID:20260509T230000Z-1363-richard@richardhenderson.ca
URL:https://richardhenderson.ca
DTSTART;VALUE=DATE-TIME;TZID=GMT:20260509T230000Z
DTEND;VALUE=DATE-TIME;TZID=GMT:20260509T230000Z
DTSTAMP:20260425T042823Z
END:VEVENT
BEGIN:VEVENT
SUMMARY:Richard Henderson at Circling Hawk Meadery
DESCRIPTION:
LOCATION:Circling Hawk Meadery\, 13433 Leslie St\,\, Richmond Hill\, CA
UID:20260510T173000Z-1368-richard@richardhenderson.ca
URL:https://richardhenderson.ca
DTSTART;VALUE=DATE-TIME;TZID=GMT:20260510T173000Z
DTEND;VALUE=DATE-TIME;TZID=GMT:20260510T173000Z
DTSTAMP:20260425T042823Z
END:VEVENT
BEGIN:VEVENT
SUMMARY:Richard Henderson at Lindsay Legion
DESCRIPTION:
LOCATION:Lindsay Legion\, 12 York St N\, Lindsay\, CA
UID:20260518T170000Z-1395-richard@richardhenderson.ca
URL:https://richardhenderson.ca
DTSTART;VALUE=DATE-TIME;TZID=GMT:20260518T170000Z
DTEND;VALUE=DATE-TIME;TZID=GMT:20260518T170000Z
DTSTAMP:20260425T042823Z
END:VEVENT
BEGIN:VEVENT
SUMMARY:Richard Henderson at Willowtree Farm
DESCRIPTION:
LOCATION:Willowtree Farm\, 975 Durham Regional Rd 21\, Port Perry\, CA
UID:20260531T160000Z-1404-richard@richardhenderson.ca
URL:https://richardhenderson.ca
DTSTART;VALUE=DATE-TIME;TZID=GMT:20260531T160000Z
DTEND;VALUE=DATE-TIME;TZID=GMT:20260531T160000Z
DTSTAMP:20260425T042823Z
END:VEVENT
BEGIN:VEVENT
SUMMARY:Richard Henderson at Bread and Honey Festival
DESCRIPTION:Notes: with The Wanted 
LOCATION:Bread and Honey Festival\, Streetsville Memorial Park\, Mississauaga\, CA
UID:20260607T170000Z-1396-richard@richardhenderson.ca
URL:https://richardhenderson.ca
DTSTART;VALUE=DATE-TIME;TZID=GMT:20260607T170000Z
DTEND;VALUE=DATE-TIME;TZID=GMT:20260607T170000Z
DTSTAMP:20260425T042823Z
END:VEVENT
BEGIN:VEVENT
SUMMARY:Richard Henderson at Port Perry Legion
DESCRIPTION:
LOCATION:Port Perry Legion\, 484 Bay Street\, Port Perry\, CA
UID:20260612T230000Z-1382-richard@richardhenderson.ca
URL:https://richardhenderson.ca
DTSTART;VALUE=DATE-TIME;TZID=GMT:20260612T230000Z
DTEND;VALUE=DATE-TIME;TZID=GMT:20260612T230000Z
DTSTAMP:20260425T042823Z
END:VEVENT
BEGIN:VEVENT
SUMMARY:Richard Henderson at Caledon Day
DESCRIPTION:Notes: with The Wanted 
LOCATION:Caledon Day\, 6215 Old Church Rd.\, Caledon East\, CA
UID:20260620T190000Z-1403-richard@richardhenderson.ca
URL:https://richardhenderson.ca
DTSTART;VALUE=DATE-TIME;TZID=GMT:20260620T190000Z
DTEND;VALUE=DATE-TIME;TZID=GMT:20260620T190000Z
DTSTAMP:20260425T042823Z
END:VEVENT
BEGIN:VEVENT
SUMMARY:Richard Henderson at Cobourg Waterfront Festival
DESCRIPTION:
LOCATION:Cobourg Waterfront Festival\, Rotary Harbourfront Park\, 110 2nd Street\, Cobourg\, CA
UID:20260701T173000Z-1405-richard@richardhenderson.ca
URL:https://richardhenderson.ca
DTSTART;VALUE=DATE-TIME;TZID=GMT:20260701T173000Z
DTEND;VALUE=DATE-TIME;TZID=GMT:20260701T173000Z
DTSTAMP:20260425T042823Z
END:VEVENT
BEGIN:VEVENT
SUMMARY:Richard Henderson at Lighthouse Blues Festival
DESCRIPTION:
LOCATION:Lighthouse Blues Festival\, Kincardine\, CA
UID:20260711T180000Z-1386-richard@richardhenderson.ca
URL:https://richardhenderson.ca
DTSTART;VALUE=DATE-TIME;TZID=GMT:20260711T180000Z
DTEND;VALUE=DATE-TIME;TZID=GMT:20260711T180000Z
DTSTAMP:20260425T042823Z
END:VEVENT
BEGIN:VEVENT
SUMMARY:Richard Henderson at "The Ganny" - Ganaraska Hotel
DESCRIPTION:
LOCATION:"The Ganny" - Ganaraska Hotel\, 30 Ontario Street\, Port Hope\, CA
UID:20260725T180000Z-1393-richard@richardhenderson.ca
URL:https://richardhenderson.ca
DTSTART;VALUE=DATE-TIME;TZID=GMT:20260725T180000Z
DTEND;VALUE=DATE-TIME;TZID=GMT:20260725T180000Z
DTSTAMP:20260425T042823Z
END:VEVENT
BEGIN:VEVENT
SUMMARY:Richard Henderson at Palmer Park
DESCRIPTION:
LOCATION:Palmer Park\, 50 Water Street\, Port Perry\, CA
UID:20260729T210000Z-1397-richard@richardhenderson.ca
URL:https://richardhenderson.ca
DTSTART;VALUE=DATE-TIME;TZID=GMT:20260729T210000Z
DTEND;VALUE=DATE-TIME;TZID=GMT:20260729T210000Z
DTSTAMP:20260425T042823Z
END:VEVENT
BEGIN:VEVENT
SUMMARY:Richard Henderson at Hudson Music Festival
DESCRIPTION:Notes: With The Wanted. Time and Location to be announced. 
LOCATION:Hudson Music Festival\, Hudson\, CA
UID:20260730T230000Z-1398-richard@richardhenderson.ca
URL:https://richardhenderson.ca
DTSTART;VALUE=DATE-TIME;TZID=GMT:20260730T230000Z
DTEND;VALUE=DATE-TIME;TZID=GMT:20260730T230000Z
DTSTAMP:20260425T042823Z
END:VEVENT
BEGIN:VEVENT
SUMMARY:Richard Henderson at Fenelon Falls Legion
DESCRIPTION:
LOCATION:Fenelon Falls Legion\, 23 Veterans Way\, Fenelon Falls\, CA
UID:20260807T213000Z-1388-richard@richardhenderson.ca
URL:https://richardhenderson.ca
DTSTART;VALUE=DATE-TIME;TZID=GMT:20260807T213000Z
DTEND;VALUE=DATE-TIME;TZID=GMT:20260807T213000Z
DTSTAMP:20260425T042823Z
END:VEVENT
BEGIN:VEVENT
SUMMARY:Richard Henderson at Pickering Legion
DESCRIPTION:
LOCATION:Pickering Legion\, 1555 Bayly St\,\, Pickering\, CA
UID:20260808T230000Z-1402-richard@richardhenderson.ca
URL:https://richardhenderson.ca
DTSTART;VALUE=DATE-TIME;TZID=GMT:20260808T230000Z
DTEND;VALUE=DATE-TIME;TZID=GMT:20260808T230000Z
DTSTAMP:20260425T042823Z
END:VEVENT
BEGIN:VEVENT
SUMMARY:Richard Henderson at The Coach House
DESCRIPTION:
LOCATION:The Coach House\, 3 Felcher Blvd\, Whitchurch-Stouffville\, CA
UID:20260815T180000Z-1399-richard@richardhenderson.ca
URL:https://richardhenderson.ca
DTSTART;VALUE=DATE-TIME;TZID=GMT:20260815T180000Z
DTEND;VALUE=DATE-TIME;TZID=GMT:20260815T180000Z
DTSTAMP:20260425T042823Z
END:VEVENT
BEGIN:VEVENT
SUMMARY:Richard Henderson at Wellesley Fair
DESCRIPTION:Notes: with The Wanted 
LOCATION:Wellesley Fair\, Bill Gies Recreational Centre\, 1401 Queens Bush Road\, Wellesley\, CA
UID:20260829T213000Z-1400-richard@richardhenderson.ca
URL:https://richardhenderson.ca
DTSTART;VALUE=DATE-TIME;TZID=GMT:20260829T213000Z
DTEND;VALUE=DATE-TIME;TZID=GMT:20260829T213000Z
DTSTAMP:20260425T042823Z
END:VEVENT
BEGIN:VEVENT
SUMMARY:Richard Henderson at Circling Hawk Meadery
DESCRIPTION:
LOCATION:Circling Hawk Meadery\, 13433 Leslie St\,\, Richmond Hill\, CA
UID:20260920T173000Z-1369-richard@richardhenderson.ca
URL:https://richardhenderson.ca
DTSTART;VALUE=DATE-TIME;TZID=GMT:20260920T173000Z
DTEND;VALUE=DATE-TIME;TZID=GMT:20260920T173000Z
DTSTAMP:20260425T042823Z
END:VEVENT
BEGIN:VEVENT
SUMMARY:Richard Henderson at Coldwater Fall Fair
DESCRIPTION:Notes: with The Wanted 
LOCATION:Coldwater Fall Fair\, Coldwater Fairgrounds\, 11 Michael Anne Dr\,\, Coldwater\, CA
UID:20260926T170000Z-1394-richard@richardhenderson.ca
URL:https://richardhenderson.ca
DTSTART;VALUE=DATE-TIME;TZID=GMT:20260926T170000Z
DTEND;VALUE=DATE-TIME;TZID=GMT:20260926T170000Z
DTSTAMP:20260425T042823Z
END:VEVENT
BEGIN:VEVENT
SUMMARY:Richard Henderson at Fenelon Falls Legion
DESCRIPTION:
LOCATION:Fenelon Falls Legion\, 23 Veterans Way\, Fenelon Falls\, CA
UID:20261002T213000Z-1389-richard@richardhenderson.ca
URL:https://richardhenderson.ca
DTSTART;VALUE=DATE-TIME;TZID=GMT:20261002T213000Z
DTEND;VALUE=DATE-TIME;TZID=GMT:20261002T213000Z
DTSTAMP:20260425T042823Z
END:VEVENT
BEGIN:VEVENT
SUMMARY:Richard Henderson at Fenelon Falls Legion
DESCRIPTION:
LOCATION:Fenelon Falls Legion\, 23 Veterans Way\, Fenelon Falls\, CA
UID:20261204T223000Z-1391-richard@richardhenderson.ca
URL:https://richardhenderson.ca
DTSTART;VALUE=DATE-TIME;TZID=GMT:20261204T223000Z
DTEND;VALUE=DATE-TIME;TZID=GMT:20261204T223000Z
DTSTAMP:20260425T042823Z
END:VEVENT
END:VCALENDAR